BEGIN:VCALENDAR
VERSION:2.0
PRODID:-//Lahaina Junior Golf Association - ECPv6.15.14//NONSGML v1.0//EN
CALSCALE:GREGORIAN
METHOD:PUBLISH
X-WR-CALNAME:Lahaina Junior Golf Association
X-ORIGINAL-URL:https://lahainajuniorgolf.org
X-WR-CALDESC:Events for Lahaina Junior Golf Association
REFRESH-INTERVAL;VALUE=DURATION:PT1H
X-Robots-Tag:noindex
X-PUBLISHED-TTL:PT1H
BEGIN:VTIMEZONE
TZID:Pacific/Honolulu
BEGIN:STANDARD
TZOFFSETFROM:-1000
TZOFFSETTO:-1000
TZNAME:HST
DTSTART:20220101T000000
END:STANDARD
END:VTIMEZONE
BEGIN:VEVENT
DTSTART;VALUE=DATE:20230105
DTEND;VALUE=DATE:20230109
DTSTAMP:20260420T221801
CREATED:20220518T140225Z
LAST-MODIFIED:20221015T011545Z
UID:1562-1672876800-1673222399@lahainajuniorgolf.org
SUMMARY:MJGA's Sentry TOC (Volunteer)
DESCRIPTION:TEE TIMESSCORESThis is not a LJGA event but an independent event of interest. Join Maui Junior Golf Association’s Sentry TOC (Volunteer). Learn more about this and other Maui Junior Golf Association events here.
URL:https://lahainajuniorgolf.org/event/mjgas-tournament-awards-banquet-2/
LOCATION:Kapalua Plantation\, HI
CATEGORIES:Tournament,Volunteer
ATTACH;FMTTYPE=image/png:https://lahainajuniorgolf.org/wp-content/uploads/2022/05/Website-Blog-Image-Template-1000-x-667-px.png
END:VEVENT
BEGIN:VEVENT
DTSTART;VALUE=DATE:20230105
DTEND;VALUE=DATE:20230109
DTSTAMP:20260420T221801
CREATED:20220816T023732Z
LAST-MODIFIED:20221015T011609Z
UID:1882-1672876800-1673222399@lahainajuniorgolf.org
SUMMARY:MJGA's Sentry TOC (Volunteer)
DESCRIPTION:TEE TIMESSCORESThis is not a LJGA event but an independent event of interest. Join Maui Junior Golf Association’s Sentry TOC (Volunteer). Learn more about this and other Maui Junior Golf Association events here.
URL:https://lahainajuniorgolf.org/event/mjgas-sentry-toc-volunteer/
LOCATION:Kapalua Plantation\, HI
CATEGORIES:Tournament,Volunteer
ATTACH;FMTTYPE=image/png:https://lahainajuniorgolf.org/wp-content/uploads/2022/05/Website-Blog-Image-Template-1000-x-667-px.png
END:VEVENT
END:VCALENDAR